BEGIN:VCALENDAR
VERSION:2.0
PRODID:-//Terziario - ECPv6.13.2.1//NONSGML v1.0//EN
CALSCALE:GREGORIAN
METHOD:PUBLISH
X-ORIGINAL-URL:https://uglterziario.it
X-WR-CALDESC:Eventi per Terziario
REFRESH-INTERVAL;VALUE=DURATION:PT1H
X-Robots-Tag:noindex
X-PUBLISHED-TTL:PT1H
BEGIN:VTIMEZONE
TZID:Europe/Rome
BEGIN:DAYLIGHT
TZOFFSETFROM:+0100
TZOFFSETTO:+0200
TZNAME:CEST
DTSTART:20240331T010000
END:DAYLIGHT
BEGIN:STANDARD
TZOFFSETFROM:+0200
TZOFFSETTO:+0100
TZNAME:CET
DTSTART:20241027T010000
END:STANDARD
END:VTIMEZONE
BEGIN:VEVENT
DTSTART;VALUE=DATE:20240321
DTEND;VALUE=DATE:20240322
DTSTAMP:20260422T210946
CREATED:20240319T165830Z
LAST-MODIFIED:20240404T074333Z
UID:6089-1710979200-1711065599@uglterziario.it
SUMMARY:ASRI ANCL - Professionisti\, istituzioni e parti sociali: dialogo per un'efficace contrattazione collettiva in un mercato del lavoro in continua evoluzione
DESCRIPTION:Il giorno 21 marzo 2024 a Roma è stata presentata la nuova SCUOLA DI RELAZIONI INDUSTRIALI di ANCL. \n“Ieri pomeriggio a Roma è stata presentata la nuova SCUOLA DI RELAZIONI INDUSTRIALI di ANCL (Associazione Nazionale Consulenti del Lavoro) ed ho avuto l’onore di essere chiamato a far parte del COMITATO SCIENTIFICO. Grazie di cuore ad ANCL! Grazie anche per la giornata di confronto con i consulenti del Lavoro cui ho partecipato insieme\, tra gli altri\, ai rappresentanti di Assologistica\, Confapi\, Confcooperative\, Confartigianato\, Confprofessioni\, FIPE Confcommercio\, Federterziario\, Fisascat Cisl\, Uil Metalmeccanici\, Uiltucs\, il direttore dell’INL e docenti universitari delle Università di Parma\, Napoli\, Cattolica.” – Luca Malcotti \nProgramma_dei_lavori_21_marzo_2024___
URL:https://uglterziario.it/evento/asri-ancl-professionisti-istituzioni-e-parti-sociali-dialogo-per-unefficace-contrattazione-collettiva-in-un-mercato-del-lavoro-in-continua-evoluzione/
ATTACH;FMTTYPE=image/jpeg:https://uglterziario.it/wp-content/uploads/2024/03/434044787_1514980845737340_3159845903672559844_n.jpg
END:VEVENT
END:VCALENDAR