BEGIN:VCALENDAR
VERSION:2.0
PRODID:-//Terziario - ECPv6.13.2.1//NONSGML v1.0//EN
CALSCALE:GREGORIAN
METHOD:PUBLISH
X-ORIGINAL-URL:https://uglterziario.it
X-WR-CALDESC:Eventi per Terziario
REFRESH-INTERVAL;VALUE=DURATION:PT1H
X-Robots-Tag:noindex
X-PUBLISHED-TTL:PT1H
BEGIN:VTIMEZONE
TZID:Europe/Rome
BEGIN:DAYLIGHT
TZOFFSETFROM:+0100
TZOFFSETTO:+0200
TZNAME:CEST
DTSTART:20220327T010000
END:DAYLIGHT
BEGIN:STANDARD
TZOFFSETFROM:+0200
TZOFFSETTO:+0100
TZNAME:CET
DTSTART:20221030T010000
END:STANDARD
END:VTIMEZONE
BEGIN:VEVENT
DTSTART;VALUE=DATE:20221121
DTEND;VALUE=DATE:20221122
DTSTAMP:20260424T063150
CREATED:20221122T103725Z
LAST-MODIFIED:20221122T104356Z
UID:5669-1668988800-1669075199@uglterziario.it
SUMMARY:Ugl Terziario “Politiche attuali e politiche contrattuali” - secondo incontro
DESCRIPTION:Il giorno 21 novembre 2022 si è svolto il secondo incontro della Ugl Terziario\, presso l’hotel Crowne Plaza Roma a Via Aurelia Antica 415; erano presenti il segretario nazionale Luca Malcotti\, il vice segretario Luigi Giulio De Mitri Pugno e\, come nel precedente incontro\, diversi dirigenti della Ugl che hanno discusso di tematiche relative alle società partecipate\, alle società logistiche\, e alle società farmaceutiche del comune di Roma.
URL:https://uglterziario.it/evento/ugl-terziario-politiche-attuali-e-politiche-contrattuali-secondo-incontro/
LOCATION:Hotel Crowne Plaza\, Via Aurelia Antica 415\, Roma
ATTACH;FMTTYPE=image/png:https://uglterziario.it/wp-content/uploads/2022/11/secondo-incontro-Ugl-21-novembre.png
END:VEVENT
END:VCALENDAR