BEGIN:VCALENDAR
VERSION:2.0
PRODID:-//Terziario - ECPv6.13.2.1//NONSGML v1.0//EN
CALSCALE:GREGORIAN
METHOD:PUBLISH
X-ORIGINAL-URL:https://uglterziario.it
X-WR-CALDESC:Eventi per Terziario
REFRESH-INTERVAL;VALUE=DURATION:PT1H
X-Robots-Tag:noindex
X-PUBLISHED-TTL:PT1H
BEGIN:VTIMEZONE
TZID:Europe/Rome
BEGIN:DAYLIGHT
TZOFFSETFROM:+0100
TZOFFSETTO:+0200
TZNAME:CEST
DTSTART:20220327T010000
END:DAYLIGHT
BEGIN:STANDARD
TZOFFSETFROM:+0200
TZOFFSETTO:+0100
TZNAME:CET
DTSTART:20221030T010000
END:STANDARD
END:VTIMEZONE
BEGIN:VEVENT
DTSTART;VALUE=DATE:20221114
DTEND;VALUE=DATE:20221115
DTSTAMP:20260424T063210
CREATED:20221115T134336Z
LAST-MODIFIED:20221122T104411Z
UID:5661-1668384000-1668470399@uglterziario.it
SUMMARY:Ugl Terziario "Politiche attuali e politiche contrattuali" - primo incontro
DESCRIPTION:Era presente il segretario nazionale Luca Malcotti\, il vice segretario Luigi Giulio De Mitri Pugno e diversi dirigenti sindacali della Ugl Terziario; si è discusso attivamente di contrattazione e rapporti con le istituzioni nel settore del turismo e del commercio. \nData la grande partecipazione dell’evento\, il prossimo incontro si terrà il giorno lunedì 21 novembre.
URL:https://uglterziario.it/evento/ugl-terziario-politiche-attuali-e-politiche-contrattuali/
LOCATION:Hotel Crown Plaza\, Roma
ATTACH;FMTTYPE=image/jpeg:https://uglterziario.it/wp-content/uploads/2022/11/315528831_1238099813425446_4577049118022691588_n.jpg
END:VEVENT
END:VCALENDAR