BEGIN:VCALENDAR
VERSION:2.0
PRODID:-//Terziario - ECPv6.13.2.1//NONSGML v1.0//EN
CALSCALE:GREGORIAN
METHOD:PUBLISH
X-WR-CALNAME:Terziario
X-ORIGINAL-URL:https://uglterziario.it
X-WR-CALDESC:Eventi per Terziario
REFRESH-INTERVAL;VALUE=DURATION:PT1H
X-Robots-Tag:noindex
X-PUBLISHED-TTL:PT1H
BEGIN:VTIMEZONE
TZID:Europe/Rome
BEGIN:DAYLIGHT
TZOFFSETFROM:+0100
TZOFFSETTO:+0200
TZNAME:CEST
DTSTART:20220327T010000
END:DAYLIGHT
BEGIN:STANDARD
TZOFFSETFROM:+0200
TZOFFSETTO:+0100
TZNAME:CET
DTSTART:20221030T010000
END:STANDARD
END:VTIMEZONE
BEGIN:VEVENT
DTSTART;VALUE=DATE:20220726
DTEND;VALUE=DATE:20220727
DTSTAMP:20260424T143348
CREATED:20220728T093624Z
LAST-MODIFIED:20220728T095701Z
UID:5552-1658793600-1658879999@uglterziario.it
SUMMARY:Assemblea dei soci EBCE
DESCRIPTION:In data 26 luglio 2022 si è svolta in videoconferenza\, l’assemblea dei soci EBCE. L’ente bilaterale centro elaborazione dati\, è nato nel 2002\, ed ha come soci fondatori le associazioni datoriali LAIT e ASSOCED\, ed il sindacato Ugl Terziario; in quel giorno alcuni consiglieri sono entrati a far parte del consiglio direttivo ed altri hanno lasciato\, con il ringraziamento e la stima per il lavoro svolto da parte di tutti. Ci piace sottolineare gli straordinari risultati degli ultimi anni che hanno visto aumentare in maniera esponenziale il numero delle aziende che hanno deciso di applicare il CCNL CED e di aderire all’EBCE.
URL:https://uglterziario.it/evento/assemblea-dei-soci-ebce/
ATTACH;FMTTYPE=image/png:https://uglterziario.it/wp-content/uploads/2022/07/logo-EBCE.png
END:VEVENT
END:VCALENDAR