BEGIN:VCALENDAR
VERSION:2.0
PRODID:-//Terziario - ECPv6.13.2.1//NONSGML v1.0//EN
CALSCALE:GREGORIAN
METHOD:PUBLISH
X-WR-CALNAME:Terziario
X-ORIGINAL-URL:https://uglterziario.it
X-WR-CALDESC:Eventi per Terziario
REFRESH-INTERVAL;VALUE=DURATION:PT1H
X-Robots-Tag:noindex
X-PUBLISHED-TTL:PT1H
BEGIN:VTIMEZONE
TZID:Europe/Rome
BEGIN:DAYLIGHT
TZOFFSETFROM:+0100
TZOFFSETTO:+0200
TZNAME:CEST
DTSTART:20220327T010000
END:DAYLIGHT
BEGIN:STANDARD
TZOFFSETFROM:+0200
TZOFFSETTO:+0100
TZNAME:CET
DTSTART:20221030T010000
END:STANDARD
END:VTIMEZONE
BEGIN:VEVENT
DTSTART;TZID=Europe/Rome:20220711T000000
DTEND;TZID=Europe/Rome:20220712T000000
DTSTAMP:20260424T144953
CREATED:20220711T123659Z
LAST-MODIFIED:20220711T123659Z
UID:5494-1657497600-1657584000@uglterziario.it
SUMMARY:Ugl - DialoGOS "buone prassi europee in tema di dialogo sociale
DESCRIPTION:
URL:https://uglterziario.it/evento/ugl-dialogos-buone-prassi-europee-in-tema-di-dialogo-sociale/
LOCATION:Sala del carroccio in campidoglio
ATTACH;FMTTYPE=image/jpeg:https://uglterziario.it/wp-content/uploads/2022/07/buone-prassi-europee-in-tema-di-Dialogo-Sociale.jpg
END:VEVENT
END:VCALENDAR