BEGIN:VCALENDAR
VERSION:2.0
PRODID:-//Terziario - ECPv6.13.2.1//NONSGML v1.0//EN
CALSCALE:GREGORIAN
METHOD:PUBLISH
X-ORIGINAL-URL:https://uglterziario.it
X-WR-CALDESC:Eventi per Terziario
REFRESH-INTERVAL;VALUE=DURATION:PT1H
X-Robots-Tag:noindex
X-PUBLISHED-TTL:PT1H
BEGIN:VTIMEZONE
TZID:Europe/Rome
BEGIN:DAYLIGHT
TZOFFSETFROM:+0100
TZOFFSETTO:+0200
TZNAME:CEST
DTSTART:20220327T010000
END:DAYLIGHT
BEGIN:STANDARD
TZOFFSETFROM:+0200
TZOFFSETTO:+0100
TZNAME:CET
DTSTART:20221030T010000
END:STANDARD
END:VTIMEZONE
BEGIN:VEVENT
DTSTART;VALUE=DATE:20220608
DTEND;VALUE=DATE:20220609
DTSTAMP:20260424T161600
CREATED:20220613T095740Z
LAST-MODIFIED:20220614T100835Z
UID:5373-1654646400-1654732799@uglterziario.it
SUMMARY:Ugl presente all'assemblea Conf commercio 2022
DESCRIPTION:Vi sono stati interventi del presidente Sangalli\, del ministro Giorgetti e saluto del presidente Mattarella.
URL:https://uglterziario.it/evento/assemblea-2022-confcommercio-ugl-ce/
ATTACH;FMTTYPE=image/jpeg:https://uglterziario.it/wp-content/uploads/2022/06/assemblea-confcommercio-2022.jpg
END:VEVENT
END:VCALENDAR