BEGIN:VCALENDAR
VERSION:2.0
PRODID:-//Terziario - ECPv6.13.2.1//NONSGML v1.0//EN
CALSCALE:GREGORIAN
METHOD:PUBLISH
X-WR-CALNAME:Terziario
X-ORIGINAL-URL:https://uglterziario.it
X-WR-CALDESC:Eventi per Terziario
REFRESH-INTERVAL;VALUE=DURATION:PT1H
X-Robots-Tag:noindex
X-PUBLISHED-TTL:PT1H
BEGIN:VTIMEZONE
TZID:Europe/Rome
BEGIN:DAYLIGHT
TZOFFSETFROM:+0100
TZOFFSETTO:+0200
TZNAME:CEST
DTSTART:20230326T010000
END:DAYLIGHT
BEGIN:STANDARD
TZOFFSETFROM:+0200
TZOFFSETTO:+0100
TZNAME:CET
DTSTART:20231029T010000
END:STANDARD
END:VTIMEZONE
BEGIN:VEVENT
DTSTART;VALUE=DATE:20230301
DTEND;VALUE=DATE:20230302
DTSTAMP:20260423T212907
CREATED:20230303T094241Z
LAST-MODIFIED:20230303T094954Z
UID:5810-1677628800-1677715199@uglterziario.it
SUMMARY:Il futuro sostenibile dell'ecosistema turismo - Ugl presente
DESCRIPTION:Nella giornata del 1 marzo 2023 si è svolto l’evento “Il futuro sostenibile dell’ecosistema turismo” presso la Fiera Del Levante di Bari. Per la nostra organizzazione sindacale era presente il Segretario Nazionale Ugl Terziario Luca Malcotti; all’evento l’assessore regionale Lopane\, l’assessore comunale Pierucci\, il Direttore Federterziario Franco\, il direttore Fonditalia Sangue\, il Presidente ANCL Montanaro\, il Presidente Stati Generali Inglese e tanti altri relatori. Il convegno verteva sull’ambito del BTM – Business Tourism Management. \n \n 
URL:https://uglterziario.it/evento/il-futuro-sostenibile-dellecosistema-turismo-ugl-presente/
LOCATION:Fiera Del Levante\, sala Hospitality – Bari
ATTACH;FMTTYPE=image/jpeg:https://uglterziario.it/wp-content/uploads/2023/03/intervento-luca-malcotti-btm-1-marzo.jpg
END:VEVENT
END:VCALENDAR