BEGIN:VCALENDAR
VERSION:2.0
PRODID:-//Terziario - ECPv6.13.2.1//NONSGML v1.0//EN
CALSCALE:GREGORIAN
METHOD:PUBLISH
X-WR-CALNAME:Terziario
X-ORIGINAL-URL:https://uglterziario.it
X-WR-CALDESC:Eventi per Terziario
REFRESH-INTERVAL;VALUE=DURATION:PT1H
X-Robots-Tag:noindex
X-PUBLISHED-TTL:PT1H
BEGIN:VTIMEZONE
TZID:Europe/Rome
BEGIN:DAYLIGHT
TZOFFSETFROM:+0100
TZOFFSETTO:+0200
TZNAME:CEST
DTSTART:20220327T010000
END:DAYLIGHT
BEGIN:STANDARD
TZOFFSETFROM:+0200
TZOFFSETTO:+0100
TZNAME:CET
DTSTART:20221030T010000
END:STANDARD
END:VTIMEZONE
BEGIN:VEVENT
DTSTART;TZID=Europe/Rome:20221117T000000
DTEND;TZID=Europe/Rome:20221119T000000
DTSTAMP:20260424T100210
CREATED:20221123T094644Z
LAST-MODIFIED:20221123T094704Z
UID:5680-1668643200-1668816000@uglterziario.it
SUMMARY:Il segretario generale Luca Malcotti presente al consiglio nazionale Ugl Comunicazioni
DESCRIPTION:Il segretario generale Luca Malcotti è stato presente al consiglio nazionale Ugl Comunicazioni; i temi del dibattito sono stati: la lotta alla precarizzazione\, la difesa dei salari e la clausola sociale
URL:https://uglterziario.it/evento/il-segretario-generale-luca-malcotti-presente-al-consiglio-nazionale-ugl-comunicazioni/
LOCATION:Palace Hotel\,  Viale Due Giugno\, 60\, 48015 Milano Marittima RA
ATTACH;FMTTYPE=image/jpeg:https://uglterziario.it/wp-content/uploads/2022/11/315957691_1240824246486336_4687016507416359497_n.jpg
END:VEVENT
END:VCALENDAR